BEGIN:VCALENDAR
PRODID:-//AT Content Types//AT Event//EN
VERSION:2.0
METHOD:PUBLISH
BEGIN:VEVENT
DTSTAMP:20260424T063431Z
CREATED:20250618T131731Z
UID:ATEvent-8b8b72239b4c46a9bd09fb8554185620
LAST-MODIFIED:20250729T120906Z
SUMMARY:Créés à l'image de Dieu - 1 et 2 juin
DTSTART:20260601T070000Z
DTEND:20260602T143000Z
CLASS:PUBLIC
END:VEVENT
END:VCALENDAR
