BEGIN:VCALENDAR
PRODID:-//AT Content Types//AT Event//EN
VERSION:1.0
BEGIN:VEVENT
DTSTART:20260726T160000Z
DTEND:20260801T120000Z
DCREATED:20250618T133335Z
UID:ATEvent-34dfedfd1ec04f50a6e6fed6334fb466
SEQUENCE:0
LAST-MODIFIED:20250729T120958Z
SUMMARY:Retraite prêchée du 26/07 au 01/08
PRIORITY:3
TRANSP:0
END:VEVENT
END:VCALENDAR
